BEGIN:VCALENDAR
VERSION:2.0
PRODID:-//Fórum kresťanských inštitúcií - ECPv6.13.0//NONSGML v1.0//EN
CALSCALE:GREGORIAN
METHOD:PUBLISH
X-WR-CALNAME:Fórum kresťanských inštitúcií
X-ORIGINAL-URL:https://fki.sk
X-WR-CALDESC:Events for Fórum kresťanských inštitúcií
REFRESH-INTERVAL;VALUE=DURATION:PT1H
X-Robots-Tag:noindex
X-PUBLISHED-TTL:PT1H
BEGIN:VTIMEZONE
TZID:Europe/Bratislava
BEGIN:DAYLIGHT
TZOFFSETFROM:+0100
TZOFFSETTO:+0200
TZNAME:CEST
DTSTART:20260329T010000
END:DAYLIGHT
BEGIN:STANDARD
TZOFFSETFROM:+0200
TZOFFSETTO:+0100
TZNAME:CET
DTSTART:20261025T010000
END:STANDARD
END:VTIMEZONE
BEGIN:VEVENT
DTSTART;TZID=Europe/Bratislava:20260325T160000
DTEND;TZID=Europe/Bratislava:20260325T190000
DTSTAMP:20260421T132212
CREATED:20260228T155925Z
LAST-MODIFIED:20260228T155925Z
UID:783-1774454400-1774465200@fki.sk
SUMMARY:38. výročie Sviečkovej manifestácie (25. marec\, Bratislava)
DESCRIPTION:Sviečková manifestácia – spomienka a modlitba (25. marec\, Bratislava) \nV stredu 25. marca si v Bratislave pripomenieme odkaz Sviečkovej manifestácie. Program sa začne o 16:30 svätou omšou v Kostole Notre Dame (Nám. Eugena Suchoňa)\, ktorú bude celebrovať Mons. Pavol Šajgalík\, biskup Ordinariátu ozbrojených síl SR. \nPo omši (okolo 17:30) bude nasledovať slávnostný program pri pamätníku Sviečkovej manifestácie na Nám. Eugena Suchoňa s príhovormi hostí: František Mikloško\, Jerguš Sivoš (ÚPN)\, Matej Vagač (MČ Staré Mesto)\, Miriam Lexmann (EP)\, Pavol Kossey (FKI)\, Marek Janiga (študent). Program hudobne doplní Slávka Tkáčová. \nPo skončení (okolo 18:30) bude pokračovať Večeradlo modlitby s Pannou Máriou so zasvätením podľa výzvy pápeža Františka.
URL:https://fki.sk/podujatie/38-vyrocie-svieckovej-manifestacie-25-marec-bratislava/
LOCATION:Pamätník Sviečkovej manifestácie\, Námestie Eugena Suchoňa\, Bratislava
ATTACH;FMTTYPE=image/png:https://fki.sk/wp-content/uploads/2026/02/SM26.png
END:VEVENT
BEGIN:VEVENT
DTSTART;TZID=Europe/Bratislava:20260324T183000
DTEND;TZID=Europe/Bratislava:20260324T190000
DTSTAMP:20260421T132212
CREATED:20260225T194453Z
LAST-MODIFIED:20260225T194903Z
UID:774-1774377000-1774378800@fki.sk
SUMMARY:Vy ste svetlo sveta - Žijeme v bublinách\, no túžime po tom istom
DESCRIPTION:Žijeme v bublinách\, no túžime po tom istom\nV spoločnosti\, ktorá je čoraz viac rozdelená\, uzatvorená do názorových a hodnotových „bublín“\, sa vynára jednoduchá otázka:Je možné znovu nájsť spoločnú reč? \nPri príležitosti 38. výročia Sviečkovej manifestácie vás pozývame na verejnú diskusiu\, ktorá otvorí tému odvahy\, slobody\, viery a občianskej zodpovednosti – vtedy aj dnes. \nHostia podujatia:\n\nPavol Šajgalík\, biskup Ordinariátu ozbrojených síl a ozbrojených zborov SR\nMonika Hricáková\, riaditeľka Domu Quo Vadis\nMilan Kňažko\, herec a tribún Novembra ’89\n\nDiskusiu bude moderovať Štefan Chrappa. \nHudobným hosťom večera bude Slávka Tkáčová. \n\nPodujatie sa uskutoční: \n📍 Dom Quo Vadis\, Bratislava📅 24. marca 2026🕡 18:30 hod. \n\nSviečková manifestácia bola symbolom túžby po slobode\, pravde a dôstojnosti. Dnes\, o 38 rokov neskôr\, stojíme pred novými výzvami – možno menej viditeľnými\, no nemenej zásadnými. \nPozývame vás na večer rozhovorov\, reflexie a stretnutia ľudí\, ktorí nechcú zostať uzavretí vo vlastných bublinách\, ale hľadajú spoločné dobro. \n🎟 Vstupenky sú dostupné na INVITON.SK \nTešíme sa na spoločné stretnutie.
URL:https://fki.sk/podujatie/vy-ste-svetlo-sveta-zijeme-v-bublinach-no-tuzime-po-tom-istom/
LOCATION:Dom Quo Vadis\, Bratislava\, United States
ATTACH;FMTTYPE=image/png:https://fki.sk/wp-content/uploads/2026/02/BA-2026.png
END:VEVENT
END:VCALENDAR